BEGIN:VCALENDAR
VERSION:2.0
PRODID:-//eventon.com NONSGML v1.0//EN
CALSCALE:GREGORIAN
METHOD:PUBLISH
BEGIN:VEVENT
UID:69e54d49422f6
DTSTAMP:20260419T214649Z
DTSTART:20260622T180000Z
DTEND:20260622T235900Z
LOCATION:Village Office 601 Bancroft Street
SUMMARY:Council Meeting
DESCRIPTION:Village Council meetings are live stream through the HUB Online
  Network Facebook page. Download the Agenda and Minutes via the buttons bel
 ow.\nhttps://ashcroftbc.ca/events/council-meeting-32/
URL:https://ashcroftbc.ca/events/council-meeting-32/
END:VEVENT
END:VCALENDAR