BEGIN:VCALENDAR
VERSION:2.0
PRODID:-//eventon.com NONSGML v1.0//EN
CALSCALE:GREGORIAN
METHOD:PUBLISH
BEGIN:VEVENT
UID:69e53383809e4
DTSTAMP:20260419T195651Z
DTSTART:20260824T180000Z
DTEND:20260824T235900Z
LOCATION:Village Office 601 Bancroft Street
SUMMARY:Council Meeting
DESCRIPTION:Village Council meetings are live stream through the HUB Online
  Network Facebook page. Download the Agenda and Minutes via the buttons bel
 ow.\nhttps://ashcroftbc.ca/events/council-meeting-34/
URL:https://ashcroftbc.ca/events/council-meeting-34/
END:VEVENT
END:VCALENDAR