BEGIN:VCALENDAR
VERSION:2.0
PRODID:-//eventon.com NONSGML v1.0//EN
CALSCALE:GREGORIAN
METHOD:PUBLISH
BEGIN:VEVENT
UID:69e9ce84683c8
DTSTAMP:20260423T074716Z
DTSTART:20260908T170000Z
DTEND:20260908T235900Z
LOCATION:Village Office 601 Bancroft Street
SUMMARY:Committee of the Whole Meeting
DESCRIPTION:Village Council meetings are live stream through the HUB Online
  Network Facebook page. Download the Agenda and Minutes via the buttons bel
 ow.\nhttps://ashcroftbc.ca/events/committee-of-the-whole-meeting-5/
URL:https://ashcroftbc.ca/events/committee-of-the-whole-meeting-5/
END:VEVENT
END:VCALENDAR