BEGIN:VCALENDAR
VERSION:2.0
PRODID:-//eventon.com NONSGML v1.0//EN
CALSCALE:GREGORIAN
METHOD:PUBLISH
BEGIN:VEVENT
UID:69e73813befc5
DTSTAMP:20260421T084051Z
DTSTART:20261109T180000Z
DTEND:20261109T235900Z
LOCATION:Village Office 601 Bancroft Street
SUMMARY:Inaugural Meeting **Tentative**
DESCRIPTION:Village Council meetings are live stream through the HUB Online
  Network Facebook page. Download the Agenda and Minutes via the buttons bel
 ow.\nhttps://ashcroftbc.ca/events/inaugural-meeting-tentative/
URL:https://ashcroftbc.ca/events/inaugural-meeting-tentative/
END:VEVENT
END:VCALENDAR