BEGIN:VCALENDAR
VERSION:2.0
PRODID:-//eventon.com NONSGML v1.0//EN
CALSCALE:GREGORIAN
METHOD:PUBLISH
BEGIN:VEVENT
UID:69ecb64892013
DTSTAMP:20260425T124040Z
DTSTART:20260427T160000Z
DTEND:20260427T225900Z
LOCATION:
SUMMARY:Committee of the Whole: Audited 2025 Financial Statement
DESCRIPTION:\nhttps://ashcroftbc.ca/events/committee-of-the-whole-audited-2
 025-financial-statement/
URL:https://ashcroftbc.ca/events/committee-of-the-whole-audited-2025-financial-statement/
END:VEVENT
END:VCALENDAR